BEGIN:VCALENDAR
VERSION:2.0
PRODID:-//Kernersville Parks and Recreation - ECPv6.15.17.1//NONSGML v1.0//EN
CALSCALE:GREGORIAN
METHOD:PUBLISH
X-ORIGINAL-URL:https://kvparks.com
X-WR-CALDESC:Events for Kernersville Parks and Recreation
REFRESH-INTERVAL;VALUE=DURATION:PT1H
X-Robots-Tag:noindex
X-PUBLISHED-TTL:PT1H
BEGIN:VTIMEZONE
TZID:America/New_York
BEGIN:DAYLIGHT
TZOFFSETFROM:-0500
TZOFFSETTO:-0400
TZNAME:EDT
DTSTART:20190310T070000
END:DAYLIGHT
BEGIN:STANDARD
TZOFFSETFROM:-0400
TZOFFSETTO:-0500
TZNAME:EST
DTSTART:20191103T060000
END:STANDARD
BEGIN:DAYLIGHT
TZOFFSETFROM:-0500
TZOFFSETTO:-0400
TZNAME:EDT
DTSTART:20200308T070000
END:DAYLIGHT
BEGIN:STANDARD
TZOFFSETFROM:-0400
TZOFFSETTO:-0500
TZNAME:EST
DTSTART:20201101T060000
END:STANDARD
BEGIN:DAYLIGHT
TZOFFSETFROM:-0500
TZOFFSETTO:-0400
TZNAME:EDT
DTSTART:20210314T070000
END:DAYLIGHT
BEGIN:STANDARD
TZOFFSETFROM:-0400
TZOFFSETTO:-0500
TZNAME:EST
DTSTART:20211107T060000
END:STANDARD
END:VTIMEZONE
BEGIN:VEVENT
DTSTART;TZID=America/New_York:20201022T120000
DTEND;TZID=America/New_York:20201022T150000
DTSTAMP:20260422T182739
CREATED:20201007T150133Z
LAST-MODIFIED:20201007T150224Z
UID:22038-1603368000-1603378800@kvparks.com
SUMMARY:Veteran's Archery Clinic
DESCRIPTION:Greensboro and Kernersville Parks and Recreation departments will offer an introductory archery clinic for military veterans 12-3 pm\, Thursday\, October 22 at Civitan Park\, 309 Nelson St.\, Kernersville. This clinic is free but registration is required. Equipment will be provided. Lunch will also be provided by Zaxbys. \n  \nSafety precautions will be taken such as temperature checks and all participants and staff will be asked to wear a mask unless they can safely social distance. On site there will be extra masks\, gloves and hand sanitizer. All equipment will be sanitized after each use and targets will be set up 8 to 10 feet apart. For more information\, contact Kaitlynne Temple at kaitlynne.temple@greensboro-nc.gov or 336-373-2735. \n 
URL:https://kvparks.com/event/veterans-archery-clinic/
LOCATION:Civitan Park\, 309 Nelson Street\, Kernersville\, 27284\, United States
CATEGORIES:AIS Division
ATTACH;FMTTYPE=image/jpeg:https://kvparks.com/app/uploads/2020/10/Veteran-Archery-Flyer-2020-scaled.jpg
END:VEVENT
END:VCALENDAR