BEGIN:VCALENDAR
VERSION:2.0
PRODID:-//Kernersville Parks and Recreation - ECPv6.15.17.1//NONSGML v1.0//EN
CALSCALE:GREGORIAN
METHOD:PUBLISH
X-ORIGINAL-URL:https://kvparks.com
X-WR-CALDESC:Events for Kernersville Parks and Recreation
REFRESH-INTERVAL;VALUE=DURATION:PT1H
X-Robots-Tag:noindex
X-PUBLISHED-TTL:PT1H
BEGIN:VTIMEZONE
TZID:America/New_York
BEGIN:DAYLIGHT
TZOFFSETFROM:-0500
TZOFFSETTO:-0400
TZNAME:EDT
DTSTART:20160313T070000
END:DAYLIGHT
BEGIN:STANDARD
TZOFFSETFROM:-0400
TZOFFSETTO:-0500
TZNAME:EST
DTSTART:20161106T060000
END:STANDARD
BEGIN:DAYLIGHT
TZOFFSETFROM:-0500
TZOFFSETTO:-0400
TZNAME:EDT
DTSTART:20170312T070000
END:DAYLIGHT
BEGIN:STANDARD
TZOFFSETFROM:-0400
TZOFFSETTO:-0500
TZNAME:EST
DTSTART:20171105T060000
END:STANDARD
BEGIN:DAYLIGHT
TZOFFSETFROM:-0500
TZOFFSETTO:-0400
TZNAME:EDT
DTSTART:20180311T070000
END:DAYLIGHT
BEGIN:STANDARD
TZOFFSETFROM:-0400
TZOFFSETTO:-0500
TZNAME:EST
DTSTART:20181104T060000
END:STANDARD
BEGIN:DAYLIGHT
TZOFFSETFROM:-0500
TZOFFSETTO:-0400
TZNAME:EDT
DTSTART:20190310T070000
END:DAYLIGHT
BEGIN:STANDARD
TZOFFSETFROM:-0400
TZOFFSETTO:-0500
TZNAME:EST
DTSTART:20191103T060000
END:STANDARD
BEGIN:DAYLIGHT
TZOFFSETFROM:-0500
TZOFFSETTO:-0400
TZNAME:EDT
DTSTART:20200308T070000
END:DAYLIGHT
BEGIN:STANDARD
TZOFFSETFROM:-0400
TZOFFSETTO:-0500
TZNAME:EST
DTSTART:20201101T060000
END:STANDARD
BEGIN:DAYLIGHT
TZOFFSETFROM:-0500
TZOFFSETTO:-0400
TZNAME:EDT
DTSTART:20210314T070000
END:DAYLIGHT
BEGIN:STANDARD
TZOFFSETFROM:-0400
TZOFFSETTO:-0500
TZNAME:EST
DTSTART:20211107T060000
END:STANDARD
BEGIN:DAYLIGHT
TZOFFSETFROM:-0500
TZOFFSETTO:-0400
TZNAME:EDT
DTSTART:20220313T070000
END:DAYLIGHT
BEGIN:STANDARD
TZOFFSETFROM:-0400
TZOFFSETTO:-0500
TZNAME:EST
DTSTART:20221106T060000
END:STANDARD
BEGIN:DAYLIGHT
TZOFFSETFROM:-0500
TZOFFSETTO:-0400
TZNAME:EDT
DTSTART:20230312T070000
END:DAYLIGHT
BEGIN:STANDARD
TZOFFSETFROM:-0400
TZOFFSETTO:-0500
TZNAME:EST
DTSTART:20231105T060000
END:STANDARD
BEGIN:DAYLIGHT
TZOFFSETFROM:-0500
TZOFFSETTO:-0400
TZNAME:EDT
DTSTART:20240310T070000
END:DAYLIGHT
BEGIN:STANDARD
TZOFFSETFROM:-0400
TZOFFSETTO:-0500
TZNAME:EST
DTSTART:20241103T060000
END:STANDARD
BEGIN:DAYLIGHT
TZOFFSETFROM:-0500
TZOFFSETTO:-0400
TZNAME:EDT
DTSTART:20250309T070000
END:DAYLIGHT
BEGIN:STANDARD
TZOFFSETFROM:-0400
TZOFFSETTO:-0500
TZNAME:EST
DTSTART:20251102T060000
END:STANDARD
BEGIN:DAYLIGHT
TZOFFSETFROM:-0500
TZOFFSETTO:-0400
TZNAME:EDT
DTSTART:20260308T070000
END:DAYLIGHT
BEGIN:STANDARD
TZOFFSETFROM:-0400
TZOFFSETTO:-0500
TZNAME:EST
DTSTART:20261101T060000
END:STANDARD
BEGIN:DAYLIGHT
TZOFFSETFROM:-0500
TZOFFSETTO:-0400
TZNAME:EDT
DTSTART:20270314T070000
END:DAYLIGHT
BEGIN:STANDARD
TZOFFSETFROM:-0400
TZOFFSETTO:-0500
TZNAME:EST
DTSTART:20271107T060000
END:STANDARD
END:VTIMEZONE
BEGIN:VEVENT
DTSTART;TZID=America/New_York:20260207T180000
DTEND;TZID=America/New_York:20260207T200000
DTSTAMP:20260423T220857
CREATED:20260106T165022Z
LAST-MODIFIED:20260112T164132Z
UID:35164-1770487200-1770494400@kvparks.com
SUMMARY:Father Daughter Dance 2026
DESCRIPTION:Elegance Behind the Mask!\nSaturday\, February 7th 2026 from 6pm-8pm\n \n  \n🌹 Tickets are SOLD OUT. At this time\, we have closed the waitlist.\n🌹 Be sure to create your account in advance\, if you haven’t already\, and make sure you can access the system! This will make the registration process easier for you on January 7th! Create or verify your account HERE.\nAccount Notice: If you are having issues logging into your account PLEASE call us PRIOR to tickets going on sale at 336-564-1624 or email asinclair@toknc.com for assistance.\n  \nDress in gowns and grandeur and let’s dance the night away! 🌹\nYour ticket includes heavy hors d’oeuvres\, light refreshments\, a professional digital photo and event goodie bag for dads and daughters that will include a take-home treat you’ll adore!\nPlease note\, while the digital photo is included in your ticket price\, it is your responsibility to stop by the photo station to have your photo taken. The link to access your photo will be displayed in the photography area as well as in your goodie bag!\n\n  \nCost:\nEach person needs a ticket – one for Dad and one for EACH DAUGHTER. Tickets will be $30/each! There will be no ticket sales at the door. For a smooth transaction\, ensure that everyone that will be in attendance is added to your account! That can be completed through your account page and selecting change information about family and friends. \nAccount Notice: If you are having issues logging into your account PLEASE call us PRIOR to tickets going on sale at 336-564-1624 or email asinclair@toknc.com for assistance.\nYour receipt of payment will be your ticket into the dance. A physical commemorative ticket will be provided upon arrival at the dance. \n  \nWaitlist is FULL\n\n  \nLocation:\nThe location of the Father Daughter Dance is the Kernersville Recreation + Event Center located at 1020 Shields Rd\, Kernersville\, NC 27284. \n 
URL:https://kvparks.com/event/father-daughter-dance-2026/
LOCATION:Kernersville Recreation + Event Center\, 1020 Shields Rd\, Kernersville\, NC\, 27284\, United States
CATEGORIES:Father Daughter Dance
END:VEVENT
BEGIN:VEVENT
DTSTART;TZID=America/New_York:20250208T180000
DTEND;TZID=America/New_York:20250208T200000
DTSTAMP:20260423T220857
CREATED:20241210T145056Z
LAST-MODIFIED:20250129T201201Z
UID:31694-1739037600-1739044800@kvparks.com
SUMMARY:Father Daughter Dance 2025
DESCRIPTION:Join us in Hollywood!\nSaturday\, February 8th 2025 from 6pm-8pm\n  \n📸 Tickets will be available ONLINE ONLY starting Wednesday\, January 8th 2025 at 10:00am.\n📸 Be sure to create your account in advance\, if you haven’t already\, and make sure you can access the system! This will make the registration process easier for you on January 8th! Create or verify your account HERE.\nAccount Notice: If you are having issues logging into your account PLEASE call us PRIOR to tickets going on sale at 336-992-0806 for assistance.\n  \nDress in your “Hollywood Glam” and let’s dance the night away! 📸\nYour ticket includes heavy hors d’oeuvres\, light refreshments\, a professional digital photo and event goodie bag for dads and daughters that will include a take-home treat you’ll adore!\nPlease note\, while the digital photo is included in your ticket price\, it is your responsibility to stop by the photo station to have your photo taken. The link to access your photo will be displayed in the photography area as well as in your goodie bag!\n\nThank You to Our Sponsors:\n \nCost:\nEach person needs a ticket – one for Dad and one for EACH DAUGHTER. Tickets will be $22/each! There will be no ticket sales at the door. For a smooth transaction\, ensure that everyone that will be in attendance is added to your account! That can be completed through your account page and selecting change information about family and friends. \nAccount Notice: If you are having issues logging into your account PLEASE call us PRIOR to tickets going on sale at 336-992-0806 for assistance.\nYour receipt of payment will be your ticket into the dance. A physical commemorative ticket will be provided upon arrival at the dance. \n  \n*Link will not work until January 8th at 10am* \nRegistration Link: http://apm.activecommunities.com/kvparks/Activity_Search/1545\n\n  \nLocation:\nThe location of the Father Daughter Dance is the Kernersville Recreation + Event Center located at 1020 Shields Rd\, Kernersville\, NC 27284. \n 
URL:https://kvparks.com/event/father-daughter-dance-2025/
LOCATION:Kernersville Recreation + Event Center\, 1020 Shields Rd\, Kernersville\, NC\, 27284\, United States
CATEGORIES:Father Daughter Dance
ATTACH;FMTTYPE=image/png:https://kvparks.com/app/uploads/2024/12/Flyer-FDD25-01-e1733243350142.png
END:VEVENT
BEGIN:VEVENT
DTSTART;TZID=America/New_York:20240210T180000
DTEND;TZID=America/New_York:20240210T200000
DTSTAMP:20260423T220857
CREATED:20231215T100049Z
LAST-MODIFIED:20240111T190321Z
UID:29150-1707588000-1707595200@kvparks.com
SUMMARY:Father Daughter Dance 2024
DESCRIPTION:*Registration and Waitlist are now closed for the event*\n\n\nJoin us in Barbieland!\nSaturday\, February 10th\, 2024 from 6pm-8pm\n  \n🎀 Tickets will be available ONLINE ONLY starting Wednesday\, January 10th 2024 at 10:00am.\n🎀 Be sure to create your account in advance\, if you haven’t already\, and make sure you can access the system! This will make the registration process easier for you on January 10th! Create or verify your account HERE.\nAccount Notice: If you are having issues logging into your account PLEASE call us PRIOR to tickets going on sale at 336-992-0806 for assistance.\n  \nLet’s dance the night away!🎀\nYour ticket includes heavy hors d’oeuvres\, light refreshments\, a professional digital photo and event goodie bag for dads and daughters that will include a take-home treat you’ll adore!\nPlease note\, while the digital photo is included in your ticket price\, it is your responsibility to stop by the photo station to have your photo taken. The link to access your photo will be displayed in the photography area as well as in your goodie bag!\nCost:\nEach person needs a ticket – one for Dad and one for EACH DAUGHTER. Tickets will be $22/each! There will be no ticket sales at the door. For a smooth transaction\, ensure that everyone that will be in attendance is added to your account! That can be completed through your account page and selecting change information about family and friends. \nAccount Notice: If you are having issues logging into your account PLEASE call us PRIOR to tickets going on sale at 336-992-0806 for assistance.\nYour receipt of payment will be your ticket into the dance. A physical commemorative ticket will be provided upon arrival at the dance. \n  \nRegistration Link: *Registration and Waitlist are now closed for the event*\n\n  \nLocation:\nThe location of the Father Daughter Dance is The Legacy Stables & Events located at 4151 Thomasville Rd\, Winston-Salem\, NC 27107.
URL:https://kvparks.com/event/father-daughter-dance-2024/
LOCATION:NC
CATEGORIES:Father Daughter Dance
ATTACH;FMTTYPE=image/png:https://kvparks.com/app/uploads/2023/12/Flyer-01-e1704812689858.png
END:VEVENT
BEGIN:VEVENT
DTSTART;TZID=America/New_York:20230211T180000
DTEND;TZID=America/New_York:20230211T200000
DTSTAMP:20260423T220857
CREATED:20221221T163024Z
LAST-MODIFIED:20221220T163253Z
UID:26611-1676138400-1676145600@kvparks.com
SUMMARY:Father Daughter Dance 2023
DESCRIPTION:Forever My Valentine\nJoin us at Legacy Stables & Events on Saturday\, February 11th\, 2023 from 6pm-8pm.\n💕 Tickets will be available ONLINE ONLY starting Tuesday January 10th 2023 at 10:00am.\n💕 Be sure to create your account in advance if you haven’t already and make sure you can access the system! This will make the registration process easier for you on January 10th! Create or verify your account HERE. \nAccount Notice: If you are having issues logging into your account PLEASE call us PRIOR to tickets going on sale at 336-992-0806 for assistance.\n  \nThis will be a lovely night for dancing and creating memories with your forever valentine. 💕 \nYour ticket includes heavy hors d’oeuvres (yes\, food is back!)\, light refreshments\, a professional digital photo and event goodie bag for dads and daughters that will include a take-home treat you’ll adore! \nPlease note\, while the digital photo is included in your ticket price\, it is your responsibility to stop by the photo station to have your photo taken.\n  \nLocation:\nThe location of the Father Daughter Dance has changed to The Legacy Stables & Events located at 4151 Thomasville Rd\, Winston-Salem\, NC 27107. \n  \nCost:\nEach person needs a ticket – one for Dad and one for EACH DAUGHTER. Tickets will be $22/each! There will be no ticket sales at the door. For a smooth transaction\, ensure that everyone that will be in attendance is added to your account! That can be completed through your account page and selecting change information about family and friends. \nAccount Notice: If you are having issues logging into your account PLEASE call us PRIOR to tickets going on sale at 336-992-0806 for assistance.\nYour receipt of payment will be your ticket into the dance. A physical commemorative ticket will be provided upon arrival at the dance. \n  \nRegistration Link:\n2023 Father Daughter Dance Tickets \nThis link will become active starting Tuesday\, January 10th at 10:00am. \nIn the event that the tickets sell out\, please add yourself to the waitlist to be eligible if additional tickets come available!
URL:https://kvparks.com/event/father-daughter-dance-2023/
LOCATION:Legacy Stables & Events\, 4151 Thomasville Rd\, Winston-Salem\, NC\, 27107\, United States
CATEGORIES:Father Daughter Dance
ATTACH;FMTTYPE=image/png:https://kvparks.com/app/uploads/2022/12/FDD-Flyer-01-e1671550725591.png
END:VEVENT
BEGIN:VEVENT
DTSTART;TZID=America/New_York:20220219T180000
DTEND;TZID=America/New_York:20220219T193000
DTSTAMP:20260423T220857
CREATED:20211215T150039Z
LAST-MODIFIED:20220112T155156Z
UID:24008-1645293600-1645299000@kvparks.com
SUMMARY:Father Daughter Dance 2022
DESCRIPTION:This is a Winter Wonderland to dance the night away! Join us at The Summit Church on Saturday\, February 19th\, 2022 from 6:00pm-7:30pm.\n❄️ Tickets will be available ONLINE ONLY starting Wednesday January 12th 2022 at 10:00am.\n❄️ Be sure to create your account in advance if you haven’t already\, as we have a new system! This will make the registration process easier for you on January 12th! Create your account HERE.\nThe night will include dancing\, a photo opportunity and event goodie bag that will include a take-home treat & SNOW much fun! \nWe will provide goodie bags that will include a FREE meal coupon from Chick-Fil-A\, but we will also have desserts provided at the dance—so be sure to eat dinner before you come to dance the night away! \nIt is a wonderful opportunity for fathers and daughters of all ages to enjoy an evening together and make magical memories that will last a lifetime! \nCost:\nEach person needs a ticket – one for Dad and one for EACH DAUGHTER. Tickets will be $17/each! There will be no ticket sales at the door. For a smooth transaction\, ensure that everyone that will be in attendance is added to your account! That can be completed through your account page and selecting change information about family and friends.\nYour receipt of payment will be your ticket into the dance. A commemorative ticket will be provided upon arrival at the dance. \n  \nRegistration Link:\n2022 Father Daughter Dance Tickets \nThis link will become active starting Wednesday\, January 12th at 10:00am. \nIn the event that the tickets sell out\, please add yourself to the waitlist to be eligible if additional tickets come available! \n  \nHealth & Safety Statement:\nCOVID and other contagious illnesses: We ask that if you are sick or have been around someone who has been sick for any reason\, please stay home. At this time\, masks for the Father Daughter Dance at The Summit Church are optional. We want our events/programs/leagues to be as safe as possible for everyone. Before attending the registered event/program/league\, please check our COVID Guidelines page at  https://kvparks.com/covid-19-guidelines/ for the current up to date information. Given that we do not know what those guidelines may be at the time of advanced registration for this scheduled date\, please check our COVID page before you attend. If you would like a refund at that time please inform us before or on the date of the program/event/league.
URL:https://kvparks.com/event/father-daughter-dance-2022/
LOCATION:The Summit Church\, 4440 High Point Rd\, Kernersville\, NC\, 27284\, United States
CATEGORIES:Father Daughter Dance
ATTACH;FMTTYPE=image/png:https://kvparks.com/app/uploads/2021/12/FDD-2022-Teaser-Social-Media-Set-02.png
END:VEVENT
BEGIN:VEVENT
DTSTART;TZID=America/New_York:20210515T130000
DTEND;TZID=America/New_York:20210515T193000
DTSTAMP:20260423T220857
CREATED:20210408T130019Z
LAST-MODIFIED:20210407T204331Z
UID:22504-1621083600-1621107000@kvparks.com
SUMMARY:Father Daughter Dance 2021
DESCRIPTION:Oh how SWEET it is! Join us at The Summit Church on Saturday May 15th\, 2021. The Father Daughter Dance will be a little different this year so here are the details. \n🍬 Tickets will be available ONLINE ONLY starting Thursday April 15th\, 2021 at 10:00am.\n🍫 We will have TWO timeslots (1:00pm & 6:00pm) to accommodate as many as we can within capacity guidelines. So if you plan to go as a group please ensure you know which time slot you want to go to before you purchase your tickets.\n🍭 Be sure to create your account in advance if you haven’t already\, this will make the registration process easier for you on April 15! \nThe night will include dancing\, a photo opportunity and event goodie bag that will include a take-home treat\, prizes and a FREE meal coupon from participating restaurants to be used at a later date. There will be no meal served at the dance. \nIt is a wonderful opportunity for fathers and daughters of all ages to enjoy an evening together and make SWEET memories that will last a lifetime! \nCost:\nEach person needs a ticket – one for Dad and one for EACH DAUGHTER. Tickets will be $17/each! There will be no ticket sales at the door.
URL:https://kvparks.com/event/father-daughter-dance-2021/
LOCATION:The Summit Church\, 4440 High Point Rd\, Kernersville\, NC\, 27284\, United States
CATEGORIES:Father Daughter Dance
END:VEVENT
BEGIN:VEVENT
DTSTART;TZID=America/New_York:20200208T180000
DTEND;TZID=America/New_York:20200208T203000
DTSTAMP:20260423T220857
CREATED:20191230T215520Z
LAST-MODIFIED:20200207T141854Z
UID:21196-1581184800-1581193800@kvparks.com
SUMMARY:Father Daughter Dance 2020
DESCRIPTION:  \nCome on in\, the water is fine! Join us Under the Sea at First Christian Church on Saturday February 8th\, 2020 from 6:00pm-8:30pm. Enjoy light hors d’oeuvres and refreshments\, music\, dancing and special surprises throughout the night! It is a wonderful opportunity for fathers and daughters of all ages to enjoy an evening together and make memories that will last a lifetime! \nTickets are SOLD OUT! \n  \nCost:\nEach person needs a ticket – one for Dad and one for EACH DAUGHTER. Tickets will be $17/each! There will be no ticket sales at the door.
URL:https://kvparks.com/event/father-daughter-dance-2020/
LOCATION:First Christian Church\, 1130 North Main St.\,  Kernersville\, NC\, 27284\, United States
CATEGORIES:Father Daughter Dance
END:VEVENT
BEGIN:VEVENT
DTSTART;TZID=America/New_York:20190209T180000
DTEND;TZID=America/New_York:20190209T203000
DTSTAMP:20260423T220857
CREATED:20181218T195742Z
LAST-MODIFIED:20190102T161204Z
UID:18306-1549735200-1549744200@kvparks.com
SUMMARY:Father Daughter Dance 2019
DESCRIPTION:This is a fairytale you wont forget! Join us at First Christian Church on Saturday\, February 9th\, 2019 from 6:00pm-8:30pm. Enjoy light refreshments\, music\, and special surprises throughout the night. It is a wonderful opportunity for fathers and daughters of all ages to enjoy an evening together and make memories that will last a lifetime! \nTickets go on sale Thursday January 3rd\, 2019 at 9:00am.\nREGISTER HERE \nCost\nEach person needs a ticket – one for Dad and one for EACH DAUGHTER. Tickets will be $17/each! There will be no ticket sales at the door.
URL:https://kvparks.com/event/father-daughter-dance-2019/
LOCATION:First Christian Church\, 1130 North Main St.\,  Kernersville\, NC\, 27284\, United States
CATEGORIES:Father Daughter Dance
ATTACH;FMTTYPE=image/jpeg:https://kvparks.com/app/uploads/2018/12/Father-Daughter-Flyer.jpg
END:VEVENT
BEGIN:VEVENT
DTSTART;TZID=America/New_York:20180210T180000
DTEND;TZID=America/New_York:20180210T203000
DTSTAMP:20260423T220857
CREATED:20171128T165816Z
LAST-MODIFIED:20180109T141411Z
UID:15572-1518285600-1518294600@kvparks.com
SUMMARY:Father Daughter Dance 2018
DESCRIPTION:  \n \nLook just beyond the reef and you’ll see Moana and friends at First Christian Church on Saturday\, February 10th\, 2018 from 6:00pm-8:30pm. Enjoy light refreshments\, music\, and special surprises throughout the night. It is a wonderful opportunity for fathers and daughters of all ages to enjoy an evening together and make memories that will last a lifetime! \nCost\n\n  \nAt this time we have SOLD OUT of tickets\, you can be added to the waitlist in the event a family isn’t able to attend and returns their tickets.\n\n\n WAIT LIST This button will take you to the registration page\, then click ‘Special Events’. \nEach person needs a ticket – one for Dad and one for EACH DAUGHTER. Tickets will be $15/each  or $30/couple.
URL:https://kvparks.com/event/father-daughter-dance-2018/
LOCATION:First Christian Church\, 1130 North Main St.\,  Kernersville\, NC\, 27284\, United States
CATEGORIES:Father Daughter Dance
END:VEVENT
BEGIN:VEVENT
DTSTART;TZID=America/New_York:20170204T180000
DTEND;TZID=America/New_York:20170204T203000
DTSTAMP:20260423T220857
CREATED:20160414T122712Z
LAST-MODIFIED:20170113T171352Z
UID:116-1486231200-1486240200@kvparks.com
SUMMARY:Father Daughter Dance 2017
DESCRIPTION:  \nFollow the yellow brick road to First Christian Church on Saturday\, February 4\, 2017 from 6-8:30 pm! Enjoy light refreshments\, music\, and special surprises throughout the night. It is a wonderful opportunity for fathers and daughters of all ages to enjoy an evening together and make memories that will last a lifetime. \nCost\nTickets for 2017 will go on sale January 3rd! \n PURCHASE TICKETS\nEach person needs a ticket – one for Dad and one for EACH DAUGHTER. Tickets will be $15/each  or $30/couple.
URL:https://kvparks.com/event/father-daughter-dance-2017/
LOCATION:First Christian Church\, 1130 North Main St.\,  Kernersville\, NC\, 27284\, United States
CATEGORIES:Father Daughter Dance
ATTACH;FMTTYPE=:
END:VEVENT
END:VCALENDAR