BEGIN:VCALENDAR
VERSION:2.0
PRODID:-//Kernersville Parks and Recreation - ECPv6.15.17.1//NONSGML v1.0//EN
CALSCALE:GREGORIAN
METHOD:PUBLISH
X-WR-CALNAME:Kernersville Parks and Recreation
X-ORIGINAL-URL:https://kvparks.com
X-WR-CALDESC:Events for Kernersville Parks and Recreation
REFRESH-INTERVAL;VALUE=DURATION:PT1H
X-Robots-Tag:noindex
X-PUBLISHED-TTL:PT1H
BEGIN:VTIMEZONE
TZID:America/New_York
BEGIN:DAYLIGHT
TZOFFSETFROM:-0500
TZOFFSETTO:-0400
TZNAME:EDT
DTSTART:20180311T070000
END:DAYLIGHT
BEGIN:STANDARD
TZOFFSETFROM:-0400
TZOFFSETTO:-0500
TZNAME:EST
DTSTART:20181104T060000
END:STANDARD
BEGIN:DAYLIGHT
TZOFFSETFROM:-0500
TZOFFSETTO:-0400
TZNAME:EDT
DTSTART:20190310T070000
END:DAYLIGHT
BEGIN:STANDARD
TZOFFSETFROM:-0400
TZOFFSETTO:-0500
TZNAME:EST
DTSTART:20191103T060000
END:STANDARD
BEGIN:DAYLIGHT
TZOFFSETFROM:-0500
TZOFFSETTO:-0400
TZNAME:EDT
DTSTART:20200308T070000
END:DAYLIGHT
BEGIN:STANDARD
TZOFFSETFROM:-0400
TZOFFSETTO:-0500
TZNAME:EST
DTSTART:20201101T060000
END:STANDARD
END:VTIMEZONE
BEGIN:VEVENT
DTSTART;TZID=America/New_York:20190817T100000
DTEND;TZID=America/New_York:20190817T170000
DTSTAMP:20260422T062342
CREATED:20190729T131857Z
LAST-MODIFIED:20190808T160356Z
UID:19659-1566036000-1566061200@kvparks.com
SUMMARY:Honeybee Festival 2019
DESCRIPTION:  \n10:00am-10:45 am          Opening Ceremonies/ Triad A Cappella Connection \n10:45am-11:00 am          Announcements/ set up \n11:20am-12:00pm          100.3 KISS FM Singing Bee \n*15 min demo*                TRU Taekwondo \n12:15pm-2:15pm            The Brick House Band \n*15 min demo*                Zumba! Dance Fit Divas of Kernersville \n2:45pm-4:45pm              Jukebox Rehab \n5:00pm                           Festival Ends \n  \n10:00-5:00 pm                Triad Area Blacksmiths Demos; Amphitheatre \n  \nVisit kvhoneybee.com for more information!
URL:https://kvparks.com/event/honeybee-festival-2019/
LOCATION:Fourth of July Park\, 702 W Mountain St\, Kernersville\, NC\, 27284\, United States
CATEGORIES:Honeybee Festival
ATTACH;FMTTYPE=image/jpeg:https://kvparks.com/app/uploads/2019/06/Flyer.jpg
END:VEVENT
END:VCALENDAR