BEGIN:VCALENDAR
VERSION:2.0
PRODID:-//Kernersville Parks and Recreation - ECPv6.15.17.1//NONSGML v1.0//EN
CALSCALE:GREGORIAN
METHOD:PUBLISH
X-ORIGINAL-URL:https://kvparks.com
X-WR-CALDESC:Events for Kernersville Parks and Recreation
REFRESH-INTERVAL;VALUE=DURATION:PT1H
X-Robots-Tag:noindex
X-PUBLISHED-TTL:PT1H
BEGIN:VTIMEZONE
TZID:America/New_York
BEGIN:DAYLIGHT
TZOFFSETFROM:-0500
TZOFFSETTO:-0400
TZNAME:EDT
DTSTART:20200308T070000
END:DAYLIGHT
BEGIN:STANDARD
TZOFFSETFROM:-0400
TZOFFSETTO:-0500
TZNAME:EST
DTSTART:20201101T060000
END:STANDARD
BEGIN:DAYLIGHT
TZOFFSETFROM:-0500
TZOFFSETTO:-0400
TZNAME:EDT
DTSTART:20210314T070000
END:DAYLIGHT
BEGIN:STANDARD
TZOFFSETFROM:-0400
TZOFFSETTO:-0500
TZNAME:EST
DTSTART:20211107T060000
END:STANDARD
BEGIN:DAYLIGHT
TZOFFSETFROM:-0500
TZOFFSETTO:-0400
TZNAME:EDT
DTSTART:20220313T070000
END:DAYLIGHT
BEGIN:STANDARD
TZOFFSETFROM:-0400
TZOFFSETTO:-0500
TZNAME:EST
DTSTART:20221106T060000
END:STANDARD
END:VTIMEZONE
BEGIN:VEVENT
DTSTART;TZID=America/New_York:20210521T193000
DTEND;TZID=America/New_York:20210521T220000
DTSTAMP:20260424T203032
CREATED:20210429T193057Z
LAST-MODIFIED:20210521T200135Z
UID:22574-1621625400-1621634400@kvparks.com
SUMMARY:Trolls World Tour
DESCRIPTION:The Movie in the Park series is presented by Jeffery L. Hutchins Law Firm\nJoin us this summer for a fun FREE family event! June’s movie will be Trolls World Tour! \nWhen the Queen of the Hard Rock Trolls tries to take over all the Troll kingdoms\, Queen Poppy and her friends try different ways to save all the Trolls. -IMDB \nWe are still running this event a little differently\, but we had to find a way to host this annual summer series again. Given our new format\, we have limited space available. Therefore\, please be aware that while the event is still free\, you must pre-register  to get your free spot! \n\nEvent Guidelines:\n– There are a limited number of spots & pre-registration is REQUIRED due to capacity guidelines.\nONE TICKET PER PERSON!\nThe event is FREE to register! \n– For everyone’s safety\, we will be limiting interaction between you and the staff as much as possible. The only interaction will be briefly at check-in and we ask that you please social distance from other groups in attendance. \n– KPRD staff will be practicing all health and safety guidelines that are recommended at the time of the event. \n– Port-a-john Restrooms will be available for emergencies. \n– We recommend having a mask on hand in the event 6 ft. distancing is breached. \n– Please be respectful and considerate to everyone around you. \n– Carry In – Carry Out – please keep the area as pristine as you found it\, by utilizing the trash cans around you. \n– The Ivey Redmon Sports complex is alcohol and tobacco-free. No pets allowed for this event. \nWe do plan on having a food truck and Kona Ice will be on site! \nGoodie bags are available for the first 100 attendees. \nRegistration is closed. 🙁\n  \nThank you to our sponsors: Cone Health MedCenter Kernersville & NorthState Communications
URL:https://kvparks.com/event/trolls-world-tour/
LOCATION:Ivey M Redmon Sports Complex\, 788 Beeson Rd\, Kernersville\, NC\, 27284\, United States
CATEGORIES:Movies in the Park
ATTACH;FMTTYPE=image/png:https://kvparks.com/app/uploads/2021/04/Trolls-Flyer-01.png
END:VEVENT
END:VCALENDAR