BEGIN:VCALENDAR
VERSION:2.0
PRODID:-//Kernersville Parks and Recreation - ECPv6.15.17.1//NONSGML v1.0//EN
CALSCALE:GREGORIAN
METHOD:PUBLISH
X-ORIGINAL-URL:https://kvparks.com
X-WR-CALDESC:Events for Kernersville Parks and Recreation
REFRESH-INTERVAL;VALUE=DURATION:PT1H
X-Robots-Tag:noindex
X-PUBLISHED-TTL:PT1H
BEGIN:VTIMEZONE
TZID:America/New_York
BEGIN:DAYLIGHT
TZOFFSETFROM:-0500
TZOFFSETTO:-0400
TZNAME:EDT
DTSTART:20220313T070000
END:DAYLIGHT
BEGIN:STANDARD
TZOFFSETFROM:-0400
TZOFFSETTO:-0500
TZNAME:EST
DTSTART:20221106T060000
END:STANDARD
BEGIN:DAYLIGHT
TZOFFSETFROM:-0500
TZOFFSETTO:-0400
TZNAME:EDT
DTSTART:20230312T070000
END:DAYLIGHT
BEGIN:STANDARD
TZOFFSETFROM:-0400
TZOFFSETTO:-0500
TZNAME:EST
DTSTART:20231105T060000
END:STANDARD
BEGIN:DAYLIGHT
TZOFFSETFROM:-0500
TZOFFSETTO:-0400
TZNAME:EDT
DTSTART:20240310T070000
END:DAYLIGHT
BEGIN:STANDARD
TZOFFSETFROM:-0400
TZOFFSETTO:-0500
TZNAME:EST
DTSTART:20241103T060000
END:STANDARD
END:VTIMEZONE
BEGIN:VEVENT
DTSTART;TZID=America/New_York:20230519T183000
DTEND;TZID=America/New_York:20230519T220000
DTSTAMP:20260422T232422
CREATED:20230419T212631Z
LAST-MODIFIED:20230420T135749Z
UID:27125-1684521000-1684533600@kvparks.com
SUMMARY:Movies in the Park on May 19 – Minions: Rise of Gru
DESCRIPTION:We love summer at Harmon Park! It means its time for our fun FREE family-friendly Movie in the Park series! This years’ series is made possible by The Law Offices of Jeffrey F. Hutchins. \nThe May 19 movie is Minions: Rise of Gru.\n“The untold story of one twelve-year-old’s dream to become the world’s greatest supervillain.” – IMDB \nWe would also like to thank our contributing sponsors: Cone Health MedCenter Kernersville & Sutton Brothers HVAC & Plumbing \n  \nThis year for everyone’s safety we are going to reiterate that the playground will be CLOSED at dusk when the movie begins and all children will need to be supervised by a parent at that time.\n  \nThe event will begin at 6:30pm. You can enjoy all the vendors we have on site before the movie. There will be games to enjoy before the movie starts\, as well as food to munch on! First 100 guests received a goodie bag\, beginning at 6:30pm. The feature film will start at dusk which is around 8:30pm. The movie runtime is 1h 27m.\nFood Options:\nKona Ice\nChick-fil-a\nHot Dog Hideaway\nD&R Sweets\nWe hope this information helps you get to the park at the right time! \nBring everyone and don’t forget you favorite lawn chair or blanket\, and enjoy watching a movie.
URL:https://kvparks.com/event/movies-in-the-park-minions-rise-of-gru/
LOCATION:Harmon Park\, 152 S. Main St.\, Kernersville\, NC\, 27284\, United States
CATEGORIES:Movies in the Park
ATTACH;FMTTYPE=image/png:https://kvparks.com/app/uploads/2023/04/Minions-Flyer-01.png
END:VEVENT
END:VCALENDAR