BEGIN:VCALENDAR
VERSION:2.0
PRODID:-//Kernersville Parks and Recreation - ECPv6.15.17.1//NONSGML v1.0//EN
CALSCALE:GREGORIAN
METHOD:PUBLISH
X-WR-CALNAME:Kernersville Parks and Recreation
X-ORIGINAL-URL:https://kvparks.com
X-WR-CALDESC:Events for Kernersville Parks and Recreation
REFRESH-INTERVAL;VALUE=DURATION:PT1H
X-Robots-Tag:noindex
X-PUBLISHED-TTL:PT1H
BEGIN:VTIMEZONE
TZID:America/New_York
BEGIN:DAYLIGHT
TZOFFSETFROM:-0500
TZOFFSETTO:-0400
TZNAME:EDT
DTSTART:20220313T070000
END:DAYLIGHT
BEGIN:STANDARD
TZOFFSETFROM:-0400
TZOFFSETTO:-0500
TZNAME:EST
DTSTART:20221106T060000
END:STANDARD
BEGIN:DAYLIGHT
TZOFFSETFROM:-0500
TZOFFSETTO:-0400
TZNAME:EDT
DTSTART:20230312T070000
END:DAYLIGHT
BEGIN:STANDARD
TZOFFSETFROM:-0400
TZOFFSETTO:-0500
TZNAME:EST
DTSTART:20231105T060000
END:STANDARD
BEGIN:DAYLIGHT
TZOFFSETFROM:-0500
TZOFFSETTO:-0400
TZNAME:EDT
DTSTART:20240310T070000
END:DAYLIGHT
BEGIN:STANDARD
TZOFFSETFROM:-0400
TZOFFSETTO:-0500
TZNAME:EST
DTSTART:20241103T060000
END:STANDARD
END:VTIMEZONE
BEGIN:VEVENT
DTSTART;TZID=America/New_York:20230616T183000
DTEND;TZID=America/New_York:20230616T220000
DTSTAMP:20260422T201945
CREATED:20230522T131901Z
LAST-MODIFIED:20230522T132307Z
UID:27570-1686940200-1686952800@kvparks.com
SUMMARY:Movies in the Park on June 16 - DC League of Superpets
DESCRIPTION:We love summer at Harmon Park! It means its time for our fun FREE family-friendly Movie in the Park series! This years’ series is made possible by The Law Offices of Jeffrey F. Hutchins. \nThe June 16 movie is DC League of Superpets.\n“Krypto the Super-Dog and Superman are inseparable best friends\, sharing the same superpowers and fighting crime side by side in Metropolis. However\, Krypto must master his own powers for a rescue mission when Superman is kidnapped.” – IMDB \nWe would also like to thank our contributing sponsors: Cone Health MedCenter Kernersville \n  \nThis year for everyone’s safety we are going to reiterate that the playground will be CLOSED at dusk when the movie begins and all children will need to be supervised by a parent at that time.\n  \nThe event will begin at 6:30pm. You can enjoy all the vendors we have on site before the movie. There will be games to enjoy before the movie starts\, as well as food to munch on! First 100 guests received a goodie bag\, beginning at 6:30pm. The feature film will start at dusk which is around 8:45pm. The movie runtime is 1h 45m.\nFood Options:\nKona Ice\nChick-fil-a\nNumbskull Ice Cream\nD&R Sweets\nPatriot Pretzel\nWe hope this information helps you get to the park at the right time! \nBring everyone and don’t forget you favorite lawn chair or blanket\, and enjoy watching a movie.
URL:https://kvparks.com/event/movies-in-the-park-on-june-16-dc-league-of-superpets/
LOCATION:Harmon Park\, 152 S. Main St.\, Kernersville\, NC\, 27284\, United States
CATEGORIES:Movies in the Park
ATTACH;FMTTYPE=image/png:https://kvparks.com/app/uploads/2023/05/SuperPets-Flyer-01.png
END:VEVENT
END:VCALENDAR