BEGIN:VCALENDAR
VERSION:2.0
PRODID:-//Kernersville Parks and Recreation - ECPv6.15.17.1//NONSGML v1.0//EN
CALSCALE:GREGORIAN
METHOD:PUBLISH
X-ORIGINAL-URL:https://kvparks.com
X-WR-CALDESC:Events for Kernersville Parks and Recreation
REFRESH-INTERVAL;VALUE=DURATION:PT1H
X-Robots-Tag:noindex
X-PUBLISHED-TTL:PT1H
BEGIN:VTIMEZONE
TZID:America/New_York
BEGIN:DAYLIGHT
TZOFFSETFROM:-0500
TZOFFSETTO:-0400
TZNAME:EDT
DTSTART:20220313T070000
END:DAYLIGHT
BEGIN:STANDARD
TZOFFSETFROM:-0400
TZOFFSETTO:-0500
TZNAME:EST
DTSTART:20221106T060000
END:STANDARD
BEGIN:DAYLIGHT
TZOFFSETFROM:-0500
TZOFFSETTO:-0400
TZNAME:EDT
DTSTART:20230312T070000
END:DAYLIGHT
BEGIN:STANDARD
TZOFFSETFROM:-0400
TZOFFSETTO:-0500
TZNAME:EST
DTSTART:20231105T060000
END:STANDARD
BEGIN:DAYLIGHT
TZOFFSETFROM:-0500
TZOFFSETTO:-0400
TZNAME:EDT
DTSTART:20240310T070000
END:DAYLIGHT
BEGIN:STANDARD
TZOFFSETFROM:-0400
TZOFFSETTO:-0500
TZNAME:EST
DTSTART:20241103T060000
END:STANDARD
END:VTIMEZONE
BEGIN:VEVENT
DTSTART;TZID=America/New_York:20230915T173000
DTEND;TZID=America/New_York:20230915T213000
DTSTAMP:20260422T155041
CREATED:20230825T090032Z
LAST-MODIFIED:20230831T200114Z
UID:28096-1694799000-1694813400@kvparks.com
SUMMARY:Movies in the Park on September 15 - The Super Mario Bros. Movie
DESCRIPTION:We love summer at Harmon Park! It means its time for our fun FREE family-friendly Movie in the Park series! This years’ series is made possible by The Law Offices of Jeffrey F. Hutchins. \nThe September 15 movie is The Super Mario Bros Movie – we had to end the series with a blockbuster film!\n“A plumber named Mario travels through an underground labyrinth with his brother\, Luigi\, trying to save a captured princess.” – IMDB \nWe would also like to thank our contributing sponsor: Sutton Brothers HVAC & Plumbing. \n  \nThis year for everyone’s safety we are going to reiterate that the playground will be CLOSED at dusk when the movie begins and all children will need to be supervised by a parent at that time.\n  \nThe event will begin at 5:30pm. You can enjoy all the vendors we have on site before the movie. There will be games to enjoy before the movie starts\, as well as food to munch on! First 100 guests received a goodie bag\, beginning at 5:30pm. The feature film will start at dusk which is around 7:30pm. The movie runtime is 1h 32m.\nFood Options:\nKona Ice\nChick-Fil-A\nCrazy Dog Food Truck\nD&R Sweets\nPatriot Pretzel\n  \nWe hope this information helps you get to the park at the right time! \nBring everyone and don’t forget you favorite lawn chair or blanket\, and enjoy watching a movie.
URL:https://kvparks.com/event/movies-in-the-park-on-september-15-the-super-mario-bros-movie/
LOCATION:Harmon Park\, 152 S. Main St.\, Kernersville\, NC\, 27284\, United States
CATEGORIES:Movies in the Park
ATTACH;FMTTYPE=image/png:https://kvparks.com/app/uploads/2023/08/Super-Mario-Flyer-01-e1693512099141.png
END:VEVENT
END:VCALENDAR