BEGIN:VCALENDAR
VERSION:2.0
PRODID:-//Kernersville Parks and Recreation - ECPv6.15.17.1//NONSGML v1.0//EN
CALSCALE:GREGORIAN
METHOD:PUBLISH
X-ORIGINAL-URL:https://kvparks.com
X-WR-CALDESC:Events for Kernersville Parks and Recreation
REFRESH-INTERVAL;VALUE=DURATION:PT1H
X-Robots-Tag:noindex
X-PUBLISHED-TTL:PT1H
BEGIN:VTIMEZONE
TZID:America/New_York
BEGIN:DAYLIGHT
TZOFFSETFROM:-0500
TZOFFSETTO:-0400
TZNAME:EDT
DTSTART:20200308T070000
END:DAYLIGHT
BEGIN:STANDARD
TZOFFSETFROM:-0400
TZOFFSETTO:-0500
TZNAME:EST
DTSTART:20201101T060000
END:STANDARD
BEGIN:DAYLIGHT
TZOFFSETFROM:-0500
TZOFFSETTO:-0400
TZNAME:EDT
DTSTART:20210314T070000
END:DAYLIGHT
BEGIN:STANDARD
TZOFFSETFROM:-0400
TZOFFSETTO:-0500
TZNAME:EST
DTSTART:20211107T060000
END:STANDARD
BEGIN:DAYLIGHT
TZOFFSETFROM:-0500
TZOFFSETTO:-0400
TZNAME:EDT
DTSTART:20220313T070000
END:DAYLIGHT
BEGIN:STANDARD
TZOFFSETFROM:-0400
TZOFFSETTO:-0500
TZNAME:EST
DTSTART:20221106T060000
END:STANDARD
END:VTIMEZONE
BEGIN:VEVENT
DTSTART;TZID=America/New_York:20210716T180000
DTEND;TZID=America/New_York:20210716T220000
DTSTAMP:20260424T190224
CREATED:20210623T140010Z
LAST-MODIFIED:20210716T142004Z
UID:22578-1626458400-1626472800@kvparks.com
SUMMARY:The Croods A New Age
DESCRIPTION:The Movie in the Park series is presented by Jeffery L. Hutchins Law Firm\nJoin us this summer for a fun FREE family event! June’s movie will be The Croods A New Age! \nThe prehistoric family the Croods are challenged by a rival family the Bettermans\, who claim to be better and more evolved. -IMDB \n\nThere is no registration for this event.\n  \nEvent Guidelines:\n– For everyone’s safety\, we will be limiting interaction between you and the staff as much as possible. The only interaction will be briefly at check-in and we ask that you please social distance from other groups in attendance. \n– KPRD staff will be practicing all health and safety guidelines that are recommended at the time of the event. \n– We recommend having a mask on hand in the event 6 ft. distancing is breached. \n– Please be respectful and considerate to everyone around you. \n– Carry In – Carry Out – please keep the area as pristine as you found it\, by utilizing the trash cans around you. \n  \n\nWe will have Homeslice Food Truck and Kona Ice on site!\n  \nGoodie bags are available for the first 100 attendees. \n  \nThank you to our sponsors: NorthState Communications\, Cone Health & Farm Bureau Ashley Davis
URL:https://kvparks.com/event/the-croods-a-new-age/
LOCATION:Harmon Park\, 152 S. Main St.\, Kernersville\, NC\, 27284\, United States
CATEGORIES:Movies in the Park
ATTACH;FMTTYPE=image/jpeg:https://kvparks.com/app/uploads/2021/06/The-Croods-Flyer-01-scaled.jpg
END:VEVENT
END:VCALENDAR