BEGIN:VCALENDAR
VERSION:2.0
PRODID:-//Kernersville Parks and Recreation - ECPv6.15.17.1//NONSGML v1.0//EN
CALSCALE:GREGORIAN
METHOD:PUBLISH
X-WR-CALNAME:Kernersville Parks and Recreation
X-ORIGINAL-URL:https://kvparks.com
X-WR-CALDESC:Events for Kernersville Parks and Recreation
REFRESH-INTERVAL;VALUE=DURATION:PT1H
X-Robots-Tag:noindex
X-PUBLISHED-TTL:PT1H
BEGIN:VTIMEZONE
TZID:America/New_York
BEGIN:DAYLIGHT
TZOFFSETFROM:-0500
TZOFFSETTO:-0400
TZNAME:EDT
DTSTART:20230312T070000
END:DAYLIGHT
BEGIN:STANDARD
TZOFFSETFROM:-0400
TZOFFSETTO:-0500
TZNAME:EST
DTSTART:20231105T060000
END:STANDARD
BEGIN:DAYLIGHT
TZOFFSETFROM:-0500
TZOFFSETTO:-0400
TZNAME:EDT
DTSTART:20240310T070000
END:DAYLIGHT
BEGIN:STANDARD
TZOFFSETFROM:-0400
TZOFFSETTO:-0500
TZNAME:EST
DTSTART:20241103T060000
END:STANDARD
BEGIN:DAYLIGHT
TZOFFSETFROM:-0500
TZOFFSETTO:-0400
TZNAME:EDT
DTSTART:20250309T070000
END:DAYLIGHT
BEGIN:STANDARD
TZOFFSETFROM:-0400
TZOFFSETTO:-0500
TZNAME:EST
DTSTART:20251102T060000
END:STANDARD
BEGIN:DAYLIGHT
TZOFFSETFROM:-0500
TZOFFSETTO:-0400
TZNAME:EDT
DTSTART:20260308T070000
END:DAYLIGHT
BEGIN:STANDARD
TZOFFSETFROM:-0400
TZOFFSETTO:-0500
TZNAME:EST
DTSTART:20261101T060000
END:STANDARD
END:VTIMEZONE
BEGIN:VEVENT
DTSTART;TZID=America/New_York:20240920T173000
DTEND;TZID=America/New_York:20240920T210000
DTSTAMP:20260425T082937
CREATED:20240722T161339Z
LAST-MODIFIED:20240920T192817Z
UID:30578-1726853400-1726866000@kvparks.com
SUMMARY:Movies in the Park on Sept 20 - Migration
DESCRIPTION:We love summer at Harmon Park! It means its time for our fun FREE family-friendly Movie in the Park series! This years’ series is made possible by The Law Offices of Jeffrey F. Hutchins. \nThe September 20 movie is Migration.\n \n“A family of ducks try to convince their overprotective father to go on the vacation of a lifetime..” – IMDB \nWe would also like to thank our contributing sponsors: Arden Homes & Sutton Brothers HVAC & Plumbing \n  \nThe event will begin at 5:30pm. You can enjoy all the vendors we have on site before the movie. There will be games to enjoy before the movie starts\, a few vendors\, as well as food to munch on! First 100 guests received a goodie bag\, beginning at 5:30pm. The feature film will start at dusk which is around 7:30pm. The movie runtime is 1h 23m.\nFood Options:\nHot Dog Hideaway\nCrazy Dog Mexican Food Truck\nPatriot Pretzel\nBlue Skies Creamery\nKona Ice\n  \n  \nThis year for everyone’s safety we are going to reiterate that the playground will be CLOSED at dusk when the movie begins and all children will need to be supervised by a parent at that time.\n  \nWe hope this information helps you get to the park at the right time! \nBring everyone and don’t forget you favorite lawn chair or blanket\, and enjoy watching a movie.
URL:https://kvparks.com/event/sept-20-migration/
LOCATION:Harmon Park\, 152 S. Main St.\, Kernersville\, NC\, 27284\, United States
CATEGORIES:Movies in the Park
END:VEVENT
BEGIN:VEVENT
DTSTART;TZID=America/New_York:20250516T183000
DTEND;TZID=America/New_York:20250516T220000
DTSTAMP:20260425T082937
CREATED:20250321T133016Z
LAST-MODIFIED:20250321T173446Z
UID:32370-1747420200-1747432800@kvparks.com
SUMMARY:Movies in the Park on May 16 – Inside Out 2
DESCRIPTION:We love summer at Harmon Park! It means its time for our fun FREE family-friendly Movie in the Park series! This years’ series is made possible by The Law Offices of Jeffrey F. Hutchins. \nThe May 16th movie is Inside Out 2.\n  \n \n“A sequel that features Riley entering puberty and experiencing brand new\, more complex emotions as a result. As Riley tries to adapt to her teenage years\, her old emotions try to adapt to the possibility of being replaced.” – IMDB \nWe would also like to thank our contributing sponsors: Moses Cone MedCenter Kernersville. \n  \nThe event will begin at 6:30pm. You can enjoy all the vendors we have on site before the movie. There will be games to enjoy before the movie starts\, a few vendors\, as well as food to munch on! First 100 guests received a goodie bag\, beginning at 6:30pm. The feature film will start at dusk which is around 8:30pm. The movie runtime is 1h 36m.\nFood Options:\nHot Dog Hideaway\nKona Ice\nVice Cream\nCousin’s Eddie\n  \n  \n  \nThis year for everyone’s safety we are going to reiterate that the playground will be CLOSED at dusk when the movie begins and all children will need to be supervised by a parent at that time.\n  \nWe hope this information helps you get to the park at the right time! \nBring everyone and don’t forget you favorite lawn chair or blanket\, and enjoy watching a movie.
URL:https://kvparks.com/event/may-16-inside-out-2/
LOCATION:Harmon Park\, 152 S. Main St.\, Kernersville\, NC\, 27284\, United States
CATEGORIES:Movies in the Park
END:VEVENT
BEGIN:VEVENT
DTSTART;TZID=America/New_York:20250620T173000
DTEND;TZID=America/New_York:20250620T213000
DTSTAMP:20260425T082937
CREATED:20250520T171223Z
LAST-MODIFIED:20250620T141343Z
UID:32374-1750440600-1750455000@kvparks.com
SUMMARY:Movie at the Recreation Center on June 20 – Wicked
DESCRIPTION:We’re rolling into our second Movie in the Park of the summer—this one will be held at the new Recreation & Events Center! It means its time for our fun FREE family-friendly Movie in the Park series! This years’ series is made possible by The Law Offices of Jeffrey F. Hutchins. \nThe June 20th movie is Wicked.\n \n“Elphaba\, a young woman ridiculed for her green skin\, and Galinda\, a popular girl\, become friends at Shiz University in the Land of Oz. After an encounter with the Wonderful Wizard of Oz\, their friendship reaches a crossroads.” – IMDB \nWe would also like to thank our contributing sponsor: Moses Cone MedCenter Kernersville. \n  \nPlease be aware of the location change!!! Due to the duration of the movie\, runtime is 2h 40m\, we are relocating the movie INDOORS so we can start the film earlier. The movie will begin at 6:30pm\, and doors open at 5:30pm. You can enjoy all the food trucks we will have on site before the movie starts. NO outside food or drinks can be brought into the Rec Center. First 100 guests receive a goodie bag\, beginning at 5:30pm. \n\nFood Options:\nHot Dog Hideaway\nVice Cream\nCrazy Dog\nConcessions (nachos & cheese\, pretzels\, candies\, sodas)\n**No outside food or drinks \n  \nSeating:\nBring everyone and don’t forget your favorite lawn chair or blanket. We will be set up in our gym area! \n  \nWe hope this information helps you get to the correct location at the right time! \n 
URL:https://kvparks.com/event/june-20-wicked/
LOCATION:Kernersville Recreation + Event Center\, 1020 Shields Rd\, Kernersville\, NC\, 27284\, United States
CATEGORIES:Movies in the Park
END:VEVENT
BEGIN:VEVENT
DTSTART;TZID=America/New_York:20250919T173000
DTEND;TZID=America/New_York:20250919T210000
DTSTAMP:20260425T082937
CREATED:20250818T213336Z
LAST-MODIFIED:20250826T135839Z
UID:32377-1758303000-1758315600@kvparks.com
SUMMARY:Movies in the Park on September 19 – Lilo & Stitch (2002)
DESCRIPTION:We love summer at Harmon Park! It means its time for our fun FREE family-friendly Movie in the Park series! This years’ series is made possible by The Law Offices of Jeffrey F. Hutchins. \nThe September 19th movie is Lilo & Stitch.\n \n  \n“A young and parentless girl adopts a ‘dog’ from the local pound\, completely unaware that it’s supposedly a dangerous scientific experiment that’s taken refuge on Earth and is now hiding from its creator and those who see it as a menace.” – IMDB \nWe would also like to thank our contributing sponsors: Brightspeed Fiber Internet. & Kernersville Primary Care \n  \nThe event will begin at 5:30pm. You can enjoy all the vendors we have on site before the movie. There will be games to enjoy before the movie starts\, a few vendors\, as well as food to munch on! First 100 guests received a goodie bag\, beginning at 5:30pm. The feature film will start at dusk which is around 7:30pm. The movie runtime is 1h 25m.\n  \nFood Options:\nCrazy Dog\nHot Dog Hideaway\nKona Ice\nVice Cream\nDrift Pizza\n  \n  \n  \nThis year for everyone’s safety we are going to reiterate that the playground will be CLOSED at dusk when the movie begins and all children will need to be supervised by a parent at that time.\n  \nWe hope this information helps you get to the park at the right time! \nBring everyone and don’t forget you favorite lawn chair or blanket\, and enjoy watching a movie.
URL:https://kvparks.com/event/september-19-lilo-stitch/
LOCATION:Harmon Park\, 152 S. Main St.\, Kernersville\, NC\, 27284\, United States
CATEGORIES:Movies in the Park
END:VEVENT
END:VCALENDAR