BEGIN:VCALENDAR
VERSION:2.0
PRODID:-//Kernersville Parks and Recreation - ECPv6.15.17.1//NONSGML v1.0//EN
CALSCALE:GREGORIAN
METHOD:PUBLISH
X-ORIGINAL-URL:https://kvparks.com
X-WR-CALDESC:Events for Kernersville Parks and Recreation
REFRESH-INTERVAL;VALUE=DURATION:PT1H
X-Robots-Tag:noindex
X-PUBLISHED-TTL:PT1H
BEGIN:VTIMEZONE
TZID:America/New_York
BEGIN:DAYLIGHT
TZOFFSETFROM:-0500
TZOFFSETTO:-0400
TZNAME:EDT
DTSTART:20160313T070000
END:DAYLIGHT
BEGIN:STANDARD
TZOFFSETFROM:-0400
TZOFFSETTO:-0500
TZNAME:EST
DTSTART:20161106T060000
END:STANDARD
BEGIN:DAYLIGHT
TZOFFSETFROM:-0500
TZOFFSETTO:-0400
TZNAME:EDT
DTSTART:20170312T070000
END:DAYLIGHT
BEGIN:STANDARD
TZOFFSETFROM:-0400
TZOFFSETTO:-0500
TZNAME:EST
DTSTART:20171105T060000
END:STANDARD
BEGIN:DAYLIGHT
TZOFFSETFROM:-0500
TZOFFSETTO:-0400
TZNAME:EDT
DTSTART:20180311T070000
END:DAYLIGHT
BEGIN:STANDARD
TZOFFSETFROM:-0400
TZOFFSETTO:-0500
TZNAME:EST
DTSTART:20181104T060000
END:STANDARD
END:VTIMEZONE
BEGIN:VEVENT
DTSTART;TZID=America/New_York:20171021T070000
DTEND;TZID=America/New_York:20171021T110000
DTSTAMP:20260419T233750
CREATED:20170810T185949Z
LAST-MODIFIED:20171020T135816Z
UID:14684-1508569200-1508583600@kvparks.com
SUMMARY:Pumpkin Run 2017
DESCRIPTION:Gather up the family for this exciting fall event! All ages are invited to walk or run the exciting 5K or 1-mile course starting at Town Hall\, promoting health & fitness while having fun. Participants are encouraged to come in costume for this festive event. \nThe annual Pumpkin Run features Live Entertainment\, Kid’s Activities\, Costume Contest for Adults\, Children & Dogs\, PRIZES & PUMPKINS!! \nPumpkin Run Map \nWhen\nOctober 21\, 2017\nCheck-In: 7:30 am (Located at the Parks & Recreation tent)\n5K Starts: 8:30 am\n1 mile starts: 8:45 am \nAll downtown parking lots are available for event parking\, the closest would be at the Police Department and Kernersville Branch Library. \nRegular Registration – starts 8/23/17\nChip Timed Registration For those wanting to be timed\, use this link to register.\nEarly registration – early bird discounts END 10/14 at 11:59pm!\n$10\, Youth ages 5-17\n$15\, Adults 18+\nFREE for children 4 & under \nIncludes T-Shirt & goodie bag\, except for 4 & under; ages 5-13 also receive a medal! \nNormal & Day of Registration\n$15\, Youth ages 5-17\n$20\, Adults 18+\nFREE for children 4 & under \nIncludes T-Shirt & goodie bag\, except for 4 & under; ages 5-13 also receive a medal! \n  \nSPONSORS\nPlease contact Heather Wood at hwood@toknc.com or 336-996-6421
URL:https://kvparks.com/event/pumpkin-run-2017/
LOCATION:Town Hall\, 134 East Mountain St\, Kernersville\, NC\, 27284\, United States
CATEGORIES:Pumkin Run
ATTACH;FMTTYPE=application/pdf:https://kvparks.com/app/uploads/2017/08/Pumpkin-Run-FINAL-20172.pdf
END:VEVENT
END:VCALENDAR