BEGIN:VCALENDAR
VERSION:2.0
PRODID:-//Kernersville Parks and Recreation - ECPv6.15.17.1//NONSGML v1.0//EN
CALSCALE:GREGORIAN
METHOD:PUBLISH
X-WR-CALNAME:Kernersville Parks and Recreation
X-ORIGINAL-URL:https://kvparks.com
X-WR-CALDESC:Events for Kernersville Parks and Recreation
REFRESH-INTERVAL;VALUE=DURATION:PT1H
X-Robots-Tag:noindex
X-PUBLISHED-TTL:PT1H
BEGIN:VTIMEZONE
TZID:America/New_York
BEGIN:DAYLIGHT
TZOFFSETFROM:-0500
TZOFFSETTO:-0400
TZNAME:EDT
DTSTART:20160313T070000
END:DAYLIGHT
BEGIN:STANDARD
TZOFFSETFROM:-0400
TZOFFSETTO:-0500
TZNAME:EST
DTSTART:20161106T060000
END:STANDARD
BEGIN:DAYLIGHT
TZOFFSETFROM:-0500
TZOFFSETTO:-0400
TZNAME:EDT
DTSTART:20170312T070000
END:DAYLIGHT
BEGIN:STANDARD
TZOFFSETFROM:-0400
TZOFFSETTO:-0500
TZNAME:EST
DTSTART:20171105T060000
END:STANDARD
BEGIN:DAYLIGHT
TZOFFSETFROM:-0500
TZOFFSETTO:-0400
TZNAME:EDT
DTSTART:20180311T070000
END:DAYLIGHT
BEGIN:STANDARD
TZOFFSETFROM:-0400
TZOFFSETTO:-0500
TZNAME:EST
DTSTART:20181104T060000
END:STANDARD
END:VTIMEZONE
BEGIN:VEVENT
DTSTART;TZID=America/New_York:20170401T100000
DTEND;TZID=America/New_York:20170401T110000
DTSTAMP:20260424T102526
CREATED:20170324T202625Z
LAST-MODIFIED:20170328T144736Z
UID:13510-1491040800-1491044400@kvparks.com
SUMMARY:Storytime in the Park - April
DESCRIPTION:Join us for Storytime in the Park at Fourth of July Park on April 1st at 10:00am. We’ll read stories\, sing songs\, dance around\, and color pictures together! Storytime will take place in one of the covered shelters. For ages 8 and under. Parental supervision is required. For more information\, call the Kernersville Branch Library at 336.703.2930
URL:https://kvparks.com/event/storytime-in-the-park-april/
LOCATION:Fourth of July Park\, 702 W Mountain St\, Kernersville\, NC\, 27284\, United States
CATEGORIES:Storytime in the Park
END:VEVENT
END:VCALENDAR