BEGIN:VCALENDAR
VERSION:2.0
PRODID:-//Kernersville Parks and Recreation - ECPv6.15.17.1//NONSGML v1.0//EN
CALSCALE:GREGORIAN
METHOD:PUBLISH
X-ORIGINAL-URL:https://kvparks.com
X-WR-CALDESC:Events for Kernersville Parks and Recreation
REFRESH-INTERVAL;VALUE=DURATION:PT1H
X-Robots-Tag:noindex
X-PUBLISHED-TTL:PT1H
BEGIN:VTIMEZONE
TZID:America/New_York
BEGIN:DAYLIGHT
TZOFFSETFROM:-0500
TZOFFSETTO:-0400
TZNAME:EDT
DTSTART:20220313T070000
END:DAYLIGHT
BEGIN:STANDARD
TZOFFSETFROM:-0400
TZOFFSETTO:-0500
TZNAME:EST
DTSTART:20221106T060000
END:STANDARD
BEGIN:DAYLIGHT
TZOFFSETFROM:-0500
TZOFFSETTO:-0400
TZNAME:EDT
DTSTART:20230312T070000
END:DAYLIGHT
BEGIN:STANDARD
TZOFFSETFROM:-0400
TZOFFSETTO:-0500
TZNAME:EST
DTSTART:20231105T060000
END:STANDARD
BEGIN:DAYLIGHT
TZOFFSETFROM:-0500
TZOFFSETTO:-0400
TZNAME:EDT
DTSTART:20240310T070000
END:DAYLIGHT
BEGIN:STANDARD
TZOFFSETFROM:-0400
TZOFFSETTO:-0500
TZNAME:EST
DTSTART:20241103T060000
END:STANDARD
END:VTIMEZONE
BEGIN:VEVENT
DTSTART;TZID=America/New_York:20231202T180000
DTEND;TZID=America/New_York:20231202T190000
DTSTAMP:20260419T172348
CREATED:20231101T145532Z
LAST-MODIFIED:20231127T142310Z
UID:28750-1701540000-1701543600@kvparks.com
SUMMARY:Kernersville Christmas Tree Lighting 2023
DESCRIPTION:Join us on this magical night as we officially light our Kernersville Christmas Tree! \nThere will be hot chocolate\, a kids craft area\, and performances as we all wait for Santa’s Christmas magic! The first 100 people will receive goodie bags courtesy of the Summit Church! Festivities begin at 6:00pm. Come help us welcome Santa to Kernersville!\n  \nPlease be aware of the location change. It is at Town Hall Courtyard! \n134 E. Mountain St \n  \nLetters to Santa \n\nHave your children write a letter to Santa Claus\, and in a few weeks\, they will receive a letter from him in return! There will be a mailbox for your child to send their letter to Santa located at the Leo Burks Memorial Gazebo in Harmon Park. Please be sure to include a self-addressed\, stamped envelope with the message. You can drop off letters between Monday November 20th – Monday December 11th\, 2023! \n\n \n  \nThe Christmas tree will be lit every night at 6:00pm December 3rd through December 31st for you to enjoy with your family if you are unable to attend this event.
URL:https://kvparks.com/event/kernersville-christmas-tree-lighting-2023/
LOCATION:Town Hall\, 134 East Mountain St\, Kernersville\, NC\, 27284\, United States
CATEGORIES:Tree Lighting
END:VEVENT
END:VCALENDAR