BEGIN:VCALENDAR
VERSION:2.0
PRODID:-//Kernersville Parks and Recreation - ECPv6.15.17.1//NONSGML v1.0//EN
CALSCALE:GREGORIAN
METHOD:PUBLISH
X-ORIGINAL-URL:https://kvparks.com
X-WR-CALDESC:Events for Kernersville Parks and Recreation
REFRESH-INTERVAL;VALUE=DURATION:PT1H
X-Robots-Tag:noindex
X-PUBLISHED-TTL:PT1H
BEGIN:VTIMEZONE
TZID:America/New_York
BEGIN:DAYLIGHT
TZOFFSETFROM:-0500
TZOFFSETTO:-0400
TZNAME:EDT
DTSTART:20170312T070000
END:DAYLIGHT
BEGIN:STANDARD
TZOFFSETFROM:-0400
TZOFFSETTO:-0500
TZNAME:EST
DTSTART:20171105T060000
END:STANDARD
BEGIN:DAYLIGHT
TZOFFSETFROM:-0500
TZOFFSETTO:-0400
TZNAME:EDT
DTSTART:20180311T070000
END:DAYLIGHT
BEGIN:STANDARD
TZOFFSETFROM:-0400
TZOFFSETTO:-0500
TZNAME:EST
DTSTART:20181104T060000
END:STANDARD
BEGIN:DAYLIGHT
TZOFFSETFROM:-0500
TZOFFSETTO:-0400
TZNAME:EDT
DTSTART:20190310T070000
END:DAYLIGHT
BEGIN:STANDARD
TZOFFSETFROM:-0400
TZOFFSETTO:-0500
TZNAME:EST
DTSTART:20191103T060000
END:STANDARD
END:VTIMEZONE
BEGIN:VEVENT
DTSTART;TZID=America/New_York:20180520T130000
DTEND;TZID=America/New_York:20180520T160000
DTSTAMP:20260424T081755
CREATED:20180315T181140Z
LAST-MODIFIED:20180420T182253Z
UID:16071-1526821200-1526832000@kvparks.com
SUMMARY:Carnaval
DESCRIPTION:Kernersville is embracing the Hispanic Culture that surrounds us everyday! Join us for the Carnaval that promotes just that. We’ve got the food\, the music\, and games to keep the festivities going! All we need is you! \n  \n  \nEn Español
URL:https://kvparks.com/event/carnaval/
LOCATION:Fourth of July Park\, 702 W Mountain St\, Kernersville\, NC\, 27284\, United States
ATTACH;FMTTYPE=image/jpeg:https://kvparks.com/app/uploads/2018/03/Flyer-1.jpg
END:VEVENT
END:VCALENDAR