BEGIN:VCALENDAR
VERSION:2.0
PRODID:-//Kernersville Parks and Recreation - ECPv6.15.17.1//NONSGML v1.0//EN
CALSCALE:GREGORIAN
METHOD:PUBLISH
X-WR-CALNAME:Kernersville Parks and Recreation
X-ORIGINAL-URL:https://kvparks.com
X-WR-CALDESC:Events for Kernersville Parks and Recreation
REFRESH-INTERVAL;VALUE=DURATION:PT1H
X-Robots-Tag:noindex
X-PUBLISHED-TTL:PT1H
BEGIN:VTIMEZONE
TZID:America/New_York
BEGIN:DAYLIGHT
TZOFFSETFROM:-0500
TZOFFSETTO:-0400
TZNAME:EDT
DTSTART:20180311T070000
END:DAYLIGHT
BEGIN:STANDARD
TZOFFSETFROM:-0400
TZOFFSETTO:-0500
TZNAME:EST
DTSTART:20181104T060000
END:STANDARD
BEGIN:DAYLIGHT
TZOFFSETFROM:-0500
TZOFFSETTO:-0400
TZNAME:EDT
DTSTART:20190310T070000
END:DAYLIGHT
BEGIN:STANDARD
TZOFFSETFROM:-0400
TZOFFSETTO:-0500
TZNAME:EST
DTSTART:20191103T060000
END:STANDARD
BEGIN:DAYLIGHT
TZOFFSETFROM:-0500
TZOFFSETTO:-0400
TZNAME:EDT
DTSTART:20200308T070000
END:DAYLIGHT
BEGIN:STANDARD
TZOFFSETFROM:-0400
TZOFFSETTO:-0500
TZNAME:EST
DTSTART:20201101T060000
END:STANDARD
END:VTIMEZONE
BEGIN:VEVENT
DTSTART;TZID=America/New_York:20190518T160000
DTEND;TZID=America/New_York:20190518T190000
DTSTAMP:20260423T131951
CREATED:20190228T172417Z
LAST-MODIFIED:20190502T133840Z
UID:18730-1558195200-1558206000@kvparks.com
SUMMARY:Carnaval 2019
DESCRIPTION:We are bringing it back! Kernersville is embracing the Hispanic Culture with Carnaval! We’ve got the food\, the music\, and games to keep the festivities going! We hope to see your there. \n \n 
URL:https://kvparks.com/event/carnaval-2019/
LOCATION:Fourth of July Park\, 702 W Mountain St\, Kernersville\, NC\, 27284\, United States
ATTACH;FMTTYPE=image/jpeg:https://kvparks.com/app/uploads/2019/02/Carnaval-Flyer.jpg
END:VEVENT
END:VCALENDAR