BEGIN:VCALENDAR
VERSION:2.0
PRODID:-//Kernersville Parks and Recreation - ECPv6.15.17.1//NONSGML v1.0//EN
CALSCALE:GREGORIAN
METHOD:PUBLISH
X-ORIGINAL-URL:https://kvparks.com
X-WR-CALDESC:Events for Kernersville Parks and Recreation
REFRESH-INTERVAL;VALUE=DURATION:PT1H
X-Robots-Tag:noindex
X-PUBLISHED-TTL:PT1H
BEGIN:VTIMEZONE
TZID:America/New_York
BEGIN:DAYLIGHT
TZOFFSETFROM:-0500
TZOFFSETTO:-0400
TZNAME:EDT
DTSTART:20240310T070000
END:DAYLIGHT
BEGIN:STANDARD
TZOFFSETFROM:-0400
TZOFFSETTO:-0500
TZNAME:EST
DTSTART:20241103T060000
END:STANDARD
BEGIN:DAYLIGHT
TZOFFSETFROM:-0500
TZOFFSETTO:-0400
TZNAME:EDT
DTSTART:20250309T070000
END:DAYLIGHT
BEGIN:STANDARD
TZOFFSETFROM:-0400
TZOFFSETTO:-0500
TZNAME:EST
DTSTART:20251102T060000
END:STANDARD
BEGIN:DAYLIGHT
TZOFFSETFROM:-0500
TZOFFSETTO:-0400
TZNAME:EDT
DTSTART:20260308T070000
END:DAYLIGHT
BEGIN:STANDARD
TZOFFSETFROM:-0400
TZOFFSETTO:-0500
TZNAME:EST
DTSTART:20261101T060000
END:STANDARD
END:VTIMEZONE
BEGIN:VEVENT
DTSTART;TZID=America/New_York:20251110T120000
DTEND;TZID=America/New_York:20251110T150000
DTSTAMP:20260419T233908
CREATED:20251015T135536Z
LAST-MODIFIED:20251015T135603Z
UID:34608-1762776000-1762786800@kvparks.com
SUMMARY:Veteran Pickleball Clinic
DESCRIPTION:We are happy to offer a Veterans Pickleball clinic! Come learn\, and practice the sport of pickleball while also enjoying the comradery of fellow service men and women. This is an instructor led clinic where you’ll be able to learn about the sport if you’re new to it\, you can brush up on your skills! \nWe are offering this clinic free for our veterans\, but registration is still required. These classes are outdoors at Civitan Fitness Park\, 309 Nelson St. Kernersville\, NC. Register here: http://apm.activecommunities.com/kvparks/Activity_Search/2001
URL:https://kvparks.com/event/veteran-pickleball-clinic/
LOCATION:Civitan Fitness Park\, 309 Nelson Street\, Kernersville\, 27284\, United States
END:VEVENT
END:VCALENDAR