BEGIN:VCALENDAR
VERSION:2.0
PRODID:-//Kernersville Parks and Recreation - ECPv6.15.17.1//NONSGML v1.0//EN
CALSCALE:GREGORIAN
METHOD:PUBLISH
X-WR-CALNAME:Kernersville Parks and Recreation
X-ORIGINAL-URL:https://kvparks.com
X-WR-CALDESC:Events for Kernersville Parks and Recreation
REFRESH-INTERVAL;VALUE=DURATION:PT1H
X-Robots-Tag:noindex
X-PUBLISHED-TTL:PT1H
BEGIN:VTIMEZONE
TZID:America/New_York
BEGIN:DAYLIGHT
TZOFFSETFROM:-0500
TZOFFSETTO:-0400
TZNAME:EDT
DTSTART:20160313T070000
END:DAYLIGHT
BEGIN:STANDARD
TZOFFSETFROM:-0400
TZOFFSETTO:-0500
TZNAME:EST
DTSTART:20161106T060000
END:STANDARD
BEGIN:DAYLIGHT
TZOFFSETFROM:-0500
TZOFFSETTO:-0400
TZNAME:EDT
DTSTART:20170312T070000
END:DAYLIGHT
BEGIN:STANDARD
TZOFFSETFROM:-0400
TZOFFSETTO:-0500
TZNAME:EST
DTSTART:20171105T060000
END:STANDARD
BEGIN:DAYLIGHT
TZOFFSETFROM:-0500
TZOFFSETTO:-0400
TZNAME:EDT
DTSTART:20180311T070000
END:DAYLIGHT
BEGIN:STANDARD
TZOFFSETFROM:-0400
TZOFFSETTO:-0500
TZNAME:EST
DTSTART:20181104T060000
END:STANDARD
END:VTIMEZONE
BEGIN:VEVENT
DTSTART;TZID=America/New_York:20171021T110000
DTEND;TZID=America/New_York:20171021T170000
DTSTAMP:20260422T182359
CREATED:20170816T203836Z
LAST-MODIFIED:20171020T174615Z
UID:14756-1508583600-1508605200@kvparks.com
SUMMARY:Harvest Food Truck Challenge
DESCRIPTION:Come enjoy a variety of flavors for a great day of eating\, music & family fun that Kernersville has to offer. In the Food Truck Challenge\, vendors will give us their best dish and our panel of taste-testing judges will award a 1st\, 2nd\, and 3rd place cash prizes. \n2017 FOOD TRUCK Vendor Registration Form \nLive Music:\nExit 180 (Advance\, NC) Noon – 2:00pm\nThe Brickhouse Band (Raleigh\, NC) 2:30pm – 4:30pm \nFood Trucks:\nWe’ll have La Vie En Rose\, Goodtimes Barbeque\, Artisan Mobile Kitchen\, The Table\, Qspresso\, Bandito Burrito\, Zeko’s Food Truck\, and Kona Ice! \n\nParking:\nAll downtown parking lots are available for event parking\, the closest would be at the Police Department and Kernersville Branch Library. \n 
URL:https://kvparks.com/event/harvest-food-truck-challenge/
LOCATION:Town Hall\, 134 East Mountain St\, Kernersville\, NC\, 27284\, United States
ATTACH;FMTTYPE=image/jpeg:https://kvparks.com/app/uploads/2017/08/Harvest-Food-Truck-Challenge-facebookevent.jpg
END:VEVENT
END:VCALENDAR